BEGIN:VCALENDAR
VERSION:2.0
PRODID:icalendar-ruby
CALSCALE:GREGORIAN
METHOD:PUBLISH
BEGIN:VEVENT
DTSTAMP:20260422T022848Z
UID:5-1475349@fbcss.com
DTSTART:20261101T160000Z
DTEND:20261101T170000Z
CLASS:PUBLIC
CREATED:20260421T213152
DESCRIPTION:Sunday Worship
LAST-MODIFIED:20260421T213152
LOCATION:
SUMMARY:Sunday Worship
URL;VALUE=URI:https://fbcss.com/events/sunday-worship/2026-11-01
END:VEVENT
END:VCALENDAR
