BEGIN:VCALENDAR
VERSION:2.0
PRODID:icalendar-ruby
CALSCALE:GREGORIAN
METHOD:PUBLISH
BEGIN:VEVENT
DTSTAMP:20260423T082526Z
UID:5-1477615@fbcss.com
DTSTART:20260906T150000Z
DTEND:20260906T160000Z
CLASS:PUBLIC
CREATED:20260422T231059
DESCRIPTION:Sunday Worship
LAST-MODIFIED:20260422T231059
LOCATION:
SUMMARY:Sunday Worship
URL;VALUE=URI:https://fbcss.com/events/sunday-worship/2026-09-06
END:VEVENT
END:VCALENDAR
